BEGIN:VCALENDAR
PRODID:-//eluceo/ical//2.0/EN
VERSION:2.0
CALSCALE:GREGORIAN
BEGIN:VEVENT
UID:3030548c5cf51531a3d9ff9cf2313c7f
DTSTAMP:20260423T080150Z
SUMMARY:Torah Class
DESCRIPTION:Jewish Federation of New Hampshire\nCommunity Calendar\nhttps:/
 /jewishnh.org/community-calendar/torah-class-1546447210\n\nTemple Beth Abr
 aham's weekly Torah class will have a special guest speaker!Join Syed Sibt
 e Hassan Jafri\, president of the Islamic Society of Greater Lowell for a 
 discussion about Hagar and Ishmael in Muslim tradition.
DTSTART;TZID=America/New_York:20190110T103000
DTEND;TZID=America/New_York:20190110T120000
END:VEVENT
END:VCALENDAR
