BEGIN:VCALENDAR
PRODID:-//eluceo/ical//2.0/EN
VERSION:2.0
CALSCALE:GREGORIAN
BEGIN:VEVENT
UID:e9872997c42d70c45d51450611993a33
DTSTAMP:20260423T095011Z
SUMMARY:Torah Class Speaker: The Practice of Brit Milah
DESCRIPTION:Jewish Federation of New Hampshire\nCommunity Calendar\nhttps:/
 /jewishnh.org/community-calendar/torah-class-1546447332\n\nTemple Beth Abr
 aham's weekly Torah Class will have a guest speaker!\n\nDr. Alan Green\, M
 ohel and Beth Abraham Member will speak about the practice of Brit Milah\,
  the circumcision of Jewish boys.
DTSTART;TZID=America/New_York:20190117T103000
DTEND;TZID=America/New_York:20190117T120000
END:VEVENT
END:VCALENDAR
