BEGIN:VCALENDAR
PRODID:-//eluceo/ical//2.0/EN
VERSION:2.0
CALSCALE:GREGORIAN
BEGIN:VEVENT
UID:74521aacfa3fd7fb7492f82344d75b64
DTSTAMP:20260423T214613Z
SUMMARY:Torah Dedication and Soft Opening!
DESCRIPTION:Jewish Federation of New Hampshire\nCommunity Calendar\nhttps:/
 /jewishnh.org/community-calendar/torah-dedication-and-soft-opening-1685632
 377\n\nWe're thrilled to invite you to join us for a truly historic event 
 - a double celebration that you definitely don't want to miss! On this spe
 cial occasion\, we will be dedicating a brand new Torah scroll\, generousl
 y donated by the esteemed Oded and Annick Shapiro.\n\nBut that's not all -
  we'll also be unveiling our new Jewish Center through a soft opening. It'
 s a fantastic opportunity to explore our newly revamped space and get a se
 nse of the exciting things that are in store.\n\nThe festiviti...
DTSTART;TZID=America/New_York:20230625T130000
DTEND;TZID=America/New_York:20230625T150000
END:VEVENT
END:VCALENDAR
