BEGIN:VCALENDAR
PRODID:-//eluceo/ical//2.0/EN
VERSION:2.0
CALSCALE:GREGORIAN
BEGIN:VEVENT
UID:25c7b21b50b3d6235ab07342c536d9ea
DTSTAMP:20260424T204122Z
SUMMARY:Temple Beth Abraham Torah Study
DESCRIPTION:Jewish Federation of New Hampshire\nCommunity Calendar\nhttps:/
 /jewishnh.org/community-calendar/torah-study-1581444356\n\nA weekly sessio
 n studying the Torah. Led by Rabbi Jon Spira-Savett and Education Director
 \, Noreen Leibson. Come once or come many times!\n\nPlease note\, Torah St
 udy does not take place when there is school vacation. Please double check
  the Temple Beth Abraham calendar if you are unsure.
DTSTART;TZID=America/New_York:20200213T103000
DTEND;TZID=America/New_York:20200213T120000
END:VEVENT
END:VCALENDAR
