BEGIN:VCALENDAR
PRODID:-//eluceo/ical//2.0/EN
VERSION:2.0
CALSCALE:GREGORIAN
BEGIN:VEVENT
UID:48cd37db3806782e3b75778ede733bef
DTSTAMP:20260422T193437Z
SUMMARY:Torah Study
DESCRIPTION:Jewish Federation of New Hampshire\nCommunity Calendar\nhttps:/
 /jewishnh.org/community-calendar/torah-study-1699966714\n\nTorah Study at 
 the home of Rabbi Marc Philippe. Must email rabbi.marc@yahoo.com for addre
 ss.\n\nAlso available on ZOOM at https://zoom.us/j/96822287178?pwd=UzQwS3V
 WS3hCVkoyVGZYVDNSaXpIZz09.
DTSTART;TZID=America/New_York:20231115T183000
DTEND;TZID=America/New_York:20231115T203000
END:VEVENT
END:VCALENDAR
