BEGIN:VCALENDAR
PRODID:-//eluceo/ical//2.0/EN
VERSION:2.0
CALSCALE:GREGORIAN
BEGIN:VEVENT
UID:b151f72871f02abde5f129b2c80a0073
DTSTAMP:20260422T235517Z
SUMMARY:Torah Study at TBA
DESCRIPTION:Jewish Federation of New Hampshire\nCommunity Calendar\nhttps:/
 /jewishnh.org/community-calendar/torah-study-at-tba-1565714324\n\nWe are c
 urrently studying the Abraham and Sarah story. We look at the original tex
 t in Hebrew and various translations\, and we consult commentaries and int
 erpretations from traditional sources and modern disciplines. Come once or
  many times!
DTSTART;TZID=America/New_York:20190905T103000
DTEND;TZID=America/New_York:20190905T123000
END:VEVENT
END:VCALENDAR
