BEGIN:VCALENDAR
PRODID:-//eluceo/ical//2.0/EN
VERSION:2.0
CALSCALE:GREGORIAN
BEGIN:VEVENT
UID:b49046ec64dfc8ff8f3cf944f07bdef5
DTSTAMP:20260423T032238Z
SUMMARY:Torah Study With Rabbi Jon and Noreen
DESCRIPTION:Jewish Federation of New Hampshire\nCommunity Calendar\nhttps:/
 /jewishnh.org/community-calendar/torah-study-with-rabbi-jon-and-noreen-170
 2574359\n\nWe meet every Thursday from 10:30 am to noon. We read a few ver
 ses at a time\, and we follow our discussion wherever it takes us. Often w
 e bring in traditional Jewish commentaries as well as modern ones\, includ
 ing contemporary art\, music\, poetry\, philosophy and even science. Often
  the texts leads us to current events. No Hebrew or prior background requi
 red.Come once or many times! Bring friends who are interested in the Bible
  for any reason. We are currently studying the beginning of the book ...
DTSTART;TZID=America/New_York:20231221T103000
DTEND;TZID=America/New_York:20231221T103000
END:VEVENT
END:VCALENDAR
