BEGIN:VCALENDAR
PRODID:-//eluceo/ical//2.0/EN
VERSION:2.0
CALSCALE:GREGORIAN
BEGIN:VEVENT
UID:3ec2e53bd5eeda2ea2a0f09be9a90cc8
DTSTAMP:20260423T195657Z
SUMMARY:November Tot Shabbat Hop
DESCRIPTION:Jewish Federation of New Hampshire\nCommunity Calendar\nhttps:/
 /jewishnh.org/community-calendar/tot-shabbat\n\nPJ Library 's jBaby and Ea
 rly Education Initiative invite families with children 0-5 (siblings welco
 me) to celebrate Shabbat morning together.\n\nBundle up and enjoy Stories\
 , Singing\, and Blessings followed by a Kiddie Kiddush\n\nSpace is limited
  and registration required.\n.......\n\nSaturday\, November 13th ~ 10AM\nC
 ourtyard of Temple Adath Yeshurun - 152 Prospect St.\, Manchester\n\nConta
 ct Allyson at allyson.guertin@jewishnh.org or 603-627-7679 with questions
DTSTART;TZID=America/New_York:20211113T100000
DTEND;TZID=America/New_York:20211113T120000
END:VEVENT
END:VCALENDAR
