BEGIN:VCALENDAR
PRODID:-//eluceo/ical//2.0/EN
VERSION:2.0
CALSCALE:GREGORIAN
BEGIN:VEVENT
UID:940005ba92e4c072131745f6c7f7764d
DTSTAMP:20260422T061400Z
SUMMARY:Tot Shabbat Hop
DESCRIPTION:Jewish Federation of New Hampshire\nCommunity Calendar\nhttps:/
 /jewishnh.org/community-calendar/tot-shabbat-hop-Chabad2024\n\nPJ Library'
 s jBaby and Early Education Initiative invite families with children 0-5 (
 siblings welcome) to celebrate Shabbat morning together.\n\nBundle up and 
 enjoy Stories\, Singing\, and Blessings followed by a Kiddie Kiddush\n\nRe
 gistration requested.\n.......\n\nSaturday\, January 13th\, 2024 ~ 10AM\nC
 habad of New Hampshire - 1234 River Road Manchester\, NH 03104
DTSTART;TZID=America/New_York:20240113T100000
DTEND;TZID=America/New_York:20240113T110000
END:VEVENT
END:VCALENDAR
