BEGIN:VCALENDAR
PRODID:-//eluceo/ical//2.0/EN
VERSION:2.0
CALSCALE:GREGORIAN
BEGIN:VEVENT
UID:2ba02be6f90ec7e9b68a2591d7fe3718
DTSTAMP:20260423T234223Z
SUMMARY:Tot Shabbat Hop - Portsmouth
DESCRIPTION:Jewish Federation of New Hampshire\nCommunity Calendar\nhttps:/
 /jewishnh.org/community-calendar/tot-shabbat-hop-portsmouth\n\nPJ Library'
 s jBaby and Early Education Initiative invite families with children 0-5 (
 siblings welcome) to celebrate Shabbat morning together.\n\nEnjoy Stories\
 , Singing\, and Blessings followed by a Kiddie Kiddush\n\nRegistration req
 uested.\n.......\n\nSaturday\, March 16th\, 2024 ~ 10AM\nTemple Israel - 2
 00 State Street\, Portsmouth\, NH
DTSTART;TZID=America/New_York:20240316T100000
DTEND;TZID=America/New_York:20240316T110000
END:VEVENT
END:VCALENDAR
