BEGIN:VCALENDAR
PRODID:-//eluceo/ical//2.0/EN
VERSION:2.0
CALSCALE:GREGORIAN
BEGIN:VEVENT
UID:09f0a397f891b483a8cdb63c5337d378
DTSTAMP:20260422T062110Z
SUMMARY:UVJC Tot Shabbat in Hanover
DESCRIPTION:Jewish Federation of New Hampshire\nCommunity Calendar\nhttps:/
 /jewishnh.org/community-calendar/tot-shabbat-in-hanover-1655427844\n\nUppe
 r Valley Jewish Community's Kol Ha'amek next tot shabbat will be June 25th
  at 9:30 am at the Roth Center. It will be our traditional line up ... sin
 g alongs\, story time\, snacks and crafts! We might be indoors depending o
 n the weather that day. If you have any questions\, contact Alicia Grossma
 n at alicia.grossman@gmail.com.\n\nLocation: Roth Center\, 5 Occom Ridge\,
  Hanover\, NH 03755\nDate & Time: June 25th @ 9:30 am
DTSTART;TZID=America/New_York:20220625T093000
DTEND;TZID=America/New_York:20220625T103000
END:VEVENT
END:VCALENDAR
