BEGIN:VCALENDAR
PRODID:-//eluceo/ical//2.0/EN
VERSION:2.0
CALSCALE:GREGORIAN
BEGIN:VEVENT
UID:94b9b8802f3bc3c18f095b4793b9a4a3
DTSTAMP:20260423T220641Z
SUMMARY:Upper Valley Tot Shabbat Kidz Club Hannukah
DESCRIPTION:Jewish Federation of New Hampshire\nCommunity Calendar\nhttps:/
 /jewishnh.org/community-calendar/tot-shabbat-kidz-club-hannukah-1701493932
 \n\nFor tots and their people.  We welcome those from congregations and th
 ose who are not affiliated.  Come and enjoy food\, music\, crafts\, and ha
 nging out with other Jews.
DTSTART;TZID=America/New_York:20231209T103000
DTEND;TZID=America/New_York:20231209T113000
END:VEVENT
END:VCALENDAR
