BEGIN:VCALENDAR
PRODID:-//eluceo/ical//2.0/EN
VERSION:2.0
CALSCALE:GREGORIAN
BEGIN:VEVENT
UID:6105baab815596a184c783551cad869a
DTSTAMP:20260423T120809Z
SUMMARY:Temple Israel Tot Shabbat with Rabba Kaya
DESCRIPTION:Jewish Federation of New Hampshire\nCommunity Calendar\nhttps:/
 /jewishnh.org/community-calendar/tot-shabbat-with-rabba-kaya-1636403801\n\
 nPlease join Temple Israel Portsmouth for a kid-friendly musical Shabbat e
 xperience led by Rabba Kaya in the Social Hall! Geared for children age 5 
 and under\; all are welcome.
DTSTART;TZID=America/New_York:20211217T170000
DTEND;TZID=America/New_York:20211217T173000
END:VEVENT
END:VCALENDAR
