BEGIN:VCALENDAR
PRODID:-//eluceo/ical//2.0/EN
VERSION:2.0
CALSCALE:GREGORIAN
BEGIN:VEVENT
UID:bbddfb25658e8090389094470eb71378
DTSTAMP:20260423T125047Z
SUMMARY:CANCELLED Temple Israel Tot Shabbat with Rabba Kaya
DESCRIPTION:Jewish Federation of New Hampshire\nCommunity Calendar\nhttps:/
 /jewishnh.org/community-calendar/tot-shabbat-with-rabba-kaya-1636403984\n\
 nCancelled due to the weather. Please join us in February!\n\nPlease join 
 Temple Israel Portsmouth for a kid-friendly musical Shabbat experience led
  by Rabba Kaya Stern-Kaufman in the Social Hall! Geared for children age 5
  and under\; all are welcome.
DTSTART;TZID=America/New_York:20220114T170000
DTEND;TZID=America/New_York:20220114T173000
END:VEVENT
END:VCALENDAR
