BEGIN:VCALENDAR
PRODID:-//eluceo/ical//2.0/EN
VERSION:2.0
CALSCALE:GREGORIAN
BEGIN:VEVENT
UID:fbf9c07d84b280914cba13431ed6e702
DTSTAMP:20260424T000048Z
SUMMARY:Tot Shabbat with Rabba Kaya
DESCRIPTION:Jewish Federation of New Hampshire\nCommunity Calendar\nhttps:/
 /jewishnh.org/community-calendar/tot-shabbat-with-rabba-kaya-1641414663\n\
 nJoin us at Temple Israel\, Portsmouth for a kid-friendly musical Shabbat 
 experience led by Rabba Kaya in the Social Hall! Geared for children age 5
  and under\; all are welcome.Kindly register via the website calendar: htt
 ps://templeisraelnh.shulcloud.com/event/tot-shabbat-with-rabba-kaya---febr
 uary.html
DTSTART;TZID=America/New_York:20220218T170000
DTEND;TZID=America/New_York:20220218T173000
END:VEVENT
END:VCALENDAR
