BEGIN:VCALENDAR
PRODID:-//eluceo/ical//2.0/EN
VERSION:2.0
CALSCALE:GREGORIAN
BEGIN:VEVENT
UID:893a6c9fa0e69e2c8b44e6ab5857354e
DTSTAMP:20260422T030329Z
SUMMARY:Tot Shabbat with Rabba Kaya
DESCRIPTION:Jewish Federation of New Hampshire\nCommunity Calendar\nhttps:/
 /jewishnh.org/community-calendar/tot-shabbat-with-rabba-kaya-1646938494\n\
 nJoin Temple Israel\, Portsmouth\, for a kid-friendly musical Shabbat expe
 rience led by Rabba Kaya in the Social Hall! Geared for children age 5 and
  under\; all are welcome. Kindly register via the website calendar\, https
 ://templeisraelnh.shulcloud.com/event/tot-shabbat-with-rabba-kaya1.html\n\
 nPlease note\, the Happy Hour originally scheduled for after the Tot Shabb
 at has been postponed until after Passover.
DTSTART;TZID=America/New_York:20220408T170000
DTEND;TZID=America/New_York:20220408T174500
END:VEVENT
END:VCALENDAR
