BEGIN:VCALENDAR
PRODID:-//eluceo/ical//2.0/EN
VERSION:2.0
CALSCALE:GREGORIAN
BEGIN:VEVENT
UID:1344af3b8bd9d3c8c71bee66d6e68c36
DTSTAMP:20260423T021851Z
SUMMARY:Tot Shabbat with Rabba Kaya
DESCRIPTION:Jewish Federation of New Hampshire\nCommunity Calendar\nhttps:/
 /jewishnh.org/community-calendar/tot-shabbat-with-rabba-kaya-1694199109\n\
 nJoin Temple Israel Portsmouth congregants and community members for a kid
 -friendly musical Shabbat experience led monthly by Rabba Kaya Stern-Kaufm
 an. Geared for children age 5 and under\; all are welcome. Please register
  via the temple website calendar.
DTSTART;TZID=America/New_York:20231020T170000
DTEND;TZID=America/New_York:20231020T174500
END:VEVENT
END:VCALENDAR
