BEGIN:VCALENDAR
PRODID:-//eluceo/ical//2.0/EN
VERSION:2.0
CALSCALE:GREGORIAN
BEGIN:VEVENT
UID:a9d566b32d332f0db7a25d6c915dc6a5
DTSTAMP:20260424T143204Z
SUMMARY:Tot Shabbat with Rabba Kaya
DESCRIPTION:Jewish Federation of New Hampshire\nCommunity Calendar\nhttps:/
 /jewishnh.org/community-calendar/tot-shabbat-with-rabba-kaya-1694199242\n\
 nJoin Temple Israel Portsmouth congregants and community members for a kid
 -friendly musical Shabbat experience led monthly by Rabba Kaya Stern-Kaufm
 an. Geared for children age 5 and under\; all are welcome. Please register
  via the temple website calendar.
DTSTART;TZID=America/New_York:20231103T170000
DTEND;TZID=America/New_York:20231103T174500
END:VEVENT
END:VCALENDAR
