BEGIN:VCALENDAR
PRODID:-//eluceo/ical//2.0/EN
VERSION:2.0
CALSCALE:GREGORIAN
BEGIN:VEVENT
UID:129de86e269fd3e2da57aa10f0225ea0
DTSTAMP:20260423T152637Z
SUMMARY:Tot Shabbat and Hanukkah Candle Lighting with Rabba Kaya
DESCRIPTION:Jewish Federation of New Hampshire\nCommunity Calendar\nhttps:/
 /jewishnh.org/community-calendar/tot-shabbat-with-rabba-kaya-1694199380\n\
 nJoin Temple Israel Portsmouth congregants and community members for a kid
 -friendly musical Shabbat and Hanukkah experience led by Rabba Kaya Stern-
 Kaufman. Geared for children age 5 and under\; all are welcome. Please reg
 ister via the temple website calendar. 
DTSTART;TZID=America/New_York:20231208T154500
DTEND;TZID=America/New_York:20231208T163000
END:VEVENT
END:VCALENDAR
