BEGIN:VCALENDAR
PRODID:-//eluceo/ical//2.0/EN
VERSION:2.0
CALSCALE:GREGORIAN
BEGIN:VEVENT
UID:ae80a57999b73005b3a42ca710a09f1a
DTSTAMP:20260422T135813Z
SUMMARY:Tot Shabbat with Rabba Kaya
DESCRIPTION:Jewish Federation of New Hampshire\nCommunity Calendar\nhttps:/
 /jewishnh.org/community-calendar/tot-shabbat-with-rabba-kaya-1709912110\n\
 nTemple Israel\, Portsmouth's kid-friendly musical Shabbat experience is l
 ed monthly by Rabba Kaya. Geared for children age 5 and under\; all are we
 lcome. Please register via the temple website calendar.
DTSTART;TZID=America/New_York:20240419T173000
DTEND;TZID=America/New_York:20240419T181500
END:VEVENT
END:VCALENDAR
