BEGIN:VCALENDAR
PRODID:-//eluceo/ical//2.0/EN
VERSION:2.0
CALSCALE:GREGORIAN
BEGIN:VEVENT
UID:ec08dbaeee0d6b110e50b5b160fd45c0
DTSTAMP:20260423T000720Z
SUMMARY:Tov! What I’ve Learned About Jewish Ethics By Studying The Good P
 lace
DESCRIPTION:Jewish Federation of New Hampshire\nCommunity Calendar\nhttps:/
 /jewishnh.org/community-calendar/tov-what-ive-learned-about-jewish-ethics-
 by-studying-the-good-place-1684942115\n\nTov! What I’ve Learned About Je
 wish Ethics By Studying The Good Place Presented by Rabbi Jon Spira-Savett
 \n\nA virtual event presentation by Rabbi Jonathan Spira-Savett.\n\nABOUT 
 THE EVENT:\n\nOne of the most nuanced recent explorations of teshuvah is a
  television show that has been described as “the smartest\, dumbest show
  on TV.” The Good Place follows four human beings whom we meet in a “n
 eighborhood” of the afterlife supervised by two eternal beings. (This de
 scription will try no...
DTSTART;TZID=America/New_York:20230601T160000
DTEND;TZID=America/New_York:20230601T170000
END:VEVENT
END:VCALENDAR
