BEGIN:VCALENDAR
PRODID:-//eluceo/ical//2.0/EN
VERSION:2.0
CALSCALE:GREGORIAN
BEGIN:VEVENT
UID:83f22000a2efd2f5e006a300882db43b
DTSTAMP:20260423T115132Z
SUMMARY:Transforming the Economic Future of the Negev & the Galilee with JN
 F-USA
DESCRIPTION:Jewish Federation of New Hampshire\nCommunity Calendar\nhttps:/
 /jewishnh.org/community-calendar/transforming-the-economic-future-of-the-n
 egev--the-galilee-with-jnf-usa-1664891206\n\nJoin Jewish National Fund-USA
  to learn about the ongoing work in partnership with the Lauder Employment
  Center in Be’er Sheva to create high-quality employment opportunities f
 or both olim (immigrants to Israel) and native Israelis. In a conversation
  with Megan Turner-Chernia\, Director of Partnerships at the Lauder Employ
 ment Center\, we will discuss the work being done to lift the economic vit
 ality of this critical region\, including by creating a new life and oppor
 tunity for recent refugees ...
DTSTART;TZID=America/New_York:20221114T190000
DTEND;TZID=America/New_York:20221114T210000
END:VEVENT
END:VCALENDAR
