BEGIN:VCALENDAR
PRODID:-//eluceo/ical//2.0/EN
VERSION:2.0
CALSCALE:GREGORIAN
BEGIN:VEVENT
UID:f0ca0dab9222f9f3781656bfecebb535
DTSTAMP:20260424T030310Z
SUMMARY:Traveling Sukkah With Rabbi Jon
DESCRIPTION:Jewish Federation of New Hampshire\nCommunity Calendar\nhttps:/
 /jewishnh.org/community-calendar/traveling-sukkah-with-rabbi-jon-169525398
 8\n\nCome spend time in a Sukkah in a truck as it goes around Greater Nash
 ua and Southern New Hampshire! Have a bite\, wave the Lulav-and-Etrog\, le
 arn about the philosophical and environmental significance of the Sukkah. 
 Look for a schedule of public stops\, which will be posted on tbanashua.or
 g\, and if you would like to have a stop in a park near you or in front of
  your home\, contact Rabbi Jon Spira-Savett (rabbijon@tbanashua.org)!
DTSTART;TZID=America/New_York:20231003T110000
DTEND;TZID=America/New_York:20231003T210000
END:VEVENT
END:VCALENDAR
