BEGIN:VCALENDAR
PRODID:-//eluceo/ical//2.0/EN
VERSION:2.0
CALSCALE:GREGORIAN
BEGIN:VEVENT
UID:30cfe867e1f94335e330ec662b2f6ac5
DTSTAMP:20260423T214303Z
SUMMARY:Temple Israel Tu B'Av White Party
DESCRIPTION:Jewish Federation of New Hampshire\nCommunity Calendar\nhttps:/
 /jewishnh.org/community-calendar/tu-bav-white-party-1689285128\n\nJoin the
  Temple Israel Manchester congregation for this party featuring an open ba
 r\, food and live music. Please contact the office at to RSVP.
DTSTART;TZID=America/New_York:20230802T180000
DTEND;TZID=America/New_York:20230802T210000
END:VEVENT
END:VCALENDAR
