BEGIN:VCALENDAR
PRODID:-//eluceo/ical//2.0/EN
VERSION:2.0
CALSCALE:GREGORIAN
BEGIN:VEVENT
UID:ab72deb0e1d35d87610907daddabd1ea
DTSTAMP:20260422T230038Z
SUMMARY:Tu Bishevat Seder
DESCRIPTION:Jewish Federation of New Hampshire\nCommunity Calendar\nhttps:/
 /jewishnh.org/community-calendar/tu-bishevat-seder-1546450038\n\nCelebrate
  the birthday of trees through a "seder" drawing on mystical themes and co
 nnections with the Land of Israel.\n\nSeder is open to all ages and is org
 anized by Rabbi Jon and Karen Herman.\n\nCost is $3/person. Please RSVP on
  the Temple Beth Abraham website or call the main office.
DTSTART;TZID=America/New_York:20190120T173000
DTEND;TZID=America/New_York:20190120T183000
END:VEVENT
END:VCALENDAR
