BEGIN:VCALENDAR
PRODID:-//eluceo/ical//2.0/EN
VERSION:2.0
CALSCALE:GREGORIAN
BEGIN:VEVENT
UID:2caee70482a8e6bb06eb74e1070e7c3d
DTSTAMP:20260422T184156Z
SUMMARY:Congregation Betenu Tu Bishvat SEder and Pot Luck Dinner
DESCRIPTION:Jewish Federation of New Hampshire\nCommunity Calendar\nhttps:/
 /jewishnh.org/community-calendar/tu-bishvat-seder-and-pot-luck-dinner-1578
 263578\n\nTu Bishvat Seder and Pot Luck Dinner.
DTSTART;TZID=America/New_York:20200207T183000
DTEND;TZID=America/New_York:20200207T210000
END:VEVENT
END:VCALENDAR
