BEGIN:VCALENDAR
PRODID:-//eluceo/ical//2.0/EN
VERSION:2.0
CALSCALE:GREGORIAN
BEGIN:VEVENT
UID:ad8828ec221258ae3dcbe10d8c130e45
DTSTAMP:20260423T225143Z
SUMMARY:Tu B'Shevat
DESCRIPTION:Jewish Federation of New Hampshire\nCommunity Calendar\nhttps:/
 /jewishnh.org/community-calendar/tu-bshevat\n\nTu B'Shvat is a Jewish holi
 day occurring on the 15th day of the Hebrew month of Shevat. It is also ca
 lled Rosh HaShanah La'Ilanot\, literally "New Year of the Trees".
DTSTART;TZID=America/New_York:20230205T000000
DTEND;TZID=America/New_York:20230206T235959
END:VEVENT
END:VCALENDAR
