BEGIN:VCALENDAR
PRODID:-//eluceo/ical//2.0/EN
VERSION:2.0
CALSCALE:GREGORIAN
BEGIN:VEVENT
UID:9444be64d2705af86561c43516f5158f
DTSTAMP:20260422T093508Z
SUMMARY:Betenu Tu B'shevat Seder
DESCRIPTION:Jewish Federation of New Hampshire\nCommunity Calendar\nhttps:/
 /jewishnh.org/community-calendar/tu-bshevat-1636208345\n\nDetails to be an
 nounced.  Please contact Betenu office for more information.
DTSTART;TZID=America/New_York:20220114T190000
DTEND;TZID=America/New_York:20220114T210000
END:VEVENT
END:VCALENDAR
