BEGIN:VCALENDAR
PRODID:-//eluceo/ical//2.0/EN
VERSION:2.0
CALSCALE:GREGORIAN
BEGIN:VEVENT
UID:f6ecd92cf402849555c2cf471d3330bc
DTSTAMP:20260423T161043Z
SUMMARY:Tu B'Shevat Adult Education Program
DESCRIPTION:Jewish Federation of New Hampshire\nCommunity Calendar\nhttps:/
 /jewishnh.org/community-calendar/tu-bshevat-adult-education-program-167294
 6644\n\nTemple B’nai Israel of Laconia\nAdult Education Series “Awaren
 ess and Acceptance in 2023”\nOur Ethical Responsibility to Each Other an
 d the World\nSecond in a four-part series
DTSTART;TZID=America/New_York:20230204T120000
DTEND;TZID=America/New_York:20230204T130000
END:VEVENT
END:VCALENDAR
