BEGIN:VCALENDAR
PRODID:-//eluceo/ical//2.0/EN
VERSION:2.0
CALSCALE:GREGORIAN
BEGIN:VEVENT
UID:87ab85fa14333ca4eec8181016d8707d
DTSTAMP:20260422T095923Z
SUMMARY:Betenu Tu B'Shevat Seder
DESCRIPTION:Jewish Federation of New Hampshire\nCommunity Calendar\nhttps:/
 /jewishnh.org/community-calendar/tu-bshevat-seder-1673536772\n\nThis will 
 be a hybrid event that can be attended  in person or joined with Zoom.  Se
 der bags containing fruits and juice for seder are available for purchase 
 through January 22nd and can be picked up at Betenu on January 29th.  Cont
 act the Betenu office for more information.
DTSTART;TZID=America/New_York:20230203T180000
DTEND;TZID=America/New_York:20230203T200000
END:VEVENT
END:VCALENDAR
