BEGIN:VCALENDAR
PRODID:-//eluceo/ical//2.0/EN
VERSION:2.0
CALSCALE:GREGORIAN
BEGIN:VEVENT
UID:60879f9b044c3215da44cbabe7addd41
DTSTAMP:20260422T155141Z
SUMMARY:Temple Israel Tu B'Shevat Seder
DESCRIPTION:Jewish Federation of New Hampshire\nCommunity Calendar\nhttps:/
 /jewishnh.org/community-calendar/tu-bshevat-seder-1701972284\n\nJoin use f
 or a community seder to celebrate the New Year for Trees! RSVP required by
  noon on Jan 19.
DTSTART;TZID=America/New_York:20240124T180000
DTEND;TZID=America/New_York:20240124T200000
END:VEVENT
END:VCALENDAR
