BEGIN:VCALENDAR
PRODID:-//eluceo/ical//2.0/EN
VERSION:2.0
CALSCALE:GREGORIAN
BEGIN:VEVENT
UID:3071c1029308fe6f5b7842e3bb753162
DTSTAMP:20260422T062120Z
SUMMARY:Tu B'Shevat Seder at Etz Hayim Synagogue
DESCRIPTION:Jewish Federation of New Hampshire\nCommunity Calendar\nhttps:/
 /jewishnh.org/community-calendar/tu-bshevat-seder-at-etz-hayim-synagogue-1
 704719893\n\nA Family Program - Join Us to celebrate the "New Year of the 
 Trees."  We'll plant parsley for Passover and have a seder where we experi
 ence different types of fruits.   We ask that you share in providing a var
 iety of fruits for the Seder.  Please use the Sign Up Genius to choose wha
 t you would like to bring.  https://www.signupgenius.com/go/60B0B4BAFAF2EA
 13-tubshevat#/\n\nIf you have any questions\, please contact Rabbi Levy at
  rabbi@etzhayim.org.
DTSTART;TZID=America/New_York:20240121T110000
DTEND;TZID=America/New_York:20240121T130000
END:VEVENT
END:VCALENDAR
