BEGIN:VCALENDAR
PRODID:-//eluceo/ical//2.0/EN
VERSION:2.0
CALSCALE:GREGORIAN
BEGIN:VEVENT
UID:f6cfa6e96c998f29f92a381ca8e83320
DTSTAMP:20260423T004054Z
SUMMARY:Tu B'Shvat
DESCRIPTION:Jewish Federation of New Hampshire\nCommunity Calendar\nhttps:/
 /jewishnh.org/community-calendar/tu-bshvat\n\nTu B'shvat celebrates the Ne
 w Year of the Trees.
DTSTART;TZID=America/New_York:20220116T000000
DTEND;TZID=America/New_York:20220117T235959
END:VEVENT
END:VCALENDAR
