BEGIN:VCALENDAR
PRODID:-//eluceo/ical//2.0/EN
VERSION:2.0
CALSCALE:GREGORIAN
BEGIN:VEVENT
UID:70cd9ed9fb89cfaf09f6bb49a12f2da4
DTSTAMP:20260423T135734Z
SUMMARY:CANCELLED Tu B'shvat Nature Party - Manchester
DESCRIPTION:Jewish Federation of New Hampshire\nCommunity Calendar\nhttps:/
 /jewishnh.org/community-calendar/tu-bshvat-nature-party\n\nTHIS PROGRAM HA
 S BEEN CANCELLED DUE TO THE WEATHER\n\n--------\n\nJoin us at one of two b
 irthday parties to celebrate Trees! We'll make nature crowns\, tree friend
 s and have a special birthday treat. This is an outside event - please dre
 ss accordingly!\n\nThis program is designed for children 0-5 but siblings 
 are always welcome.\n\nFor security purposes park location will be shared 
 once registration is received. Space is limited in order to adhere to soci
 al distancing and masks are required fo...
DTSTART;TZID=America/New_York:20220116T100000
DTEND;TZID=America/New_York:20220116T110000
END:VEVENT
END:VCALENDAR
