BEGIN:VCALENDAR
PRODID:-//eluceo/ical//2.0/EN
VERSION:2.0
CALSCALE:GREGORIAN
BEGIN:VEVENT
UID:07dadecc1cf3d79f793e41c63a8114bf
DTSTAMP:20260424T022905Z
SUMMARY:CANCELLED:  Tu B'shvat Nature Party - Durham
DESCRIPTION:Jewish Federation of New Hampshire\nCommunity Calendar\nhttps:/
 /jewishnh.org/community-calendar/tu-bshvat-nature-party-durham\n\nUnfortun
 ately\, this event has been CANCELLED due to bad weather.\n\n------\n\nJoi
 n us at one of two birthday parties to celebrate Trees! We'll make nature 
 crowns\, tree friends and have a special birthday treat. This is an outsid
 e event - please dress accordingly!\n\nThis program is designed for childr
 en 0-5 but siblings are always welcome.\n\nFor security purposes park loca
 tion will be shared once registration is received. Space is limited in ord
 er to adhere to social distancing and masks are...
DTSTART;TZID=America/New_York:20220117T100000
DTEND;TZID=America/New_York:20220117T110000
END:VEVENT
END:VCALENDAR
