BEGIN:VCALENDAR
PRODID:-//eluceo/ical//2.0/EN
VERSION:2.0
CALSCALE:GREGORIAN
BEGIN:VEVENT
UID:74aaacd87e2ba86831b51f5f9749e88a
DTSTAMP:20260424T194355Z
SUMMARY:Tu B'Shvat Seder and Celebration
DESCRIPTION:Jewish Federation of New Hampshire\nCommunity Calendar\nhttps:/
 /jewishnh.org/community-calendar/tu-bshvat-seder-and-celebration-167467676
 8\n\nWe will begin with a short and interactive Tu B'Shvat seder\, followe
 d by these fun activities:\n•Upcycle plastic and plant parsley with Ra'a
 nan!\n•Craft - make a tree\n•Maple syrup demonstration led by Beaver B
 rook\n•Tzedek Station - learn about environmental organizations\n•Tora
 h and Tu B'Shvat displays\n•And more!
DTSTART;TZID=America/New_York:20230205T160000
DTEND;TZID=America/New_York:20230205T173000
END:VEVENT
END:VCALENDAR
