BEGIN:VCALENDAR
PRODID:-//eluceo/ical//2.0/EN
VERSION:2.0
CALSCALE:GREGORIAN
BEGIN:VEVENT
UID:c41a65d12f27b085330bb68bac99635a
DTSTAMP:20260422T023743Z
SUMMARY:Tu B'Shvat Seder at Temple Beth Abraham
DESCRIPTION:Jewish Federation of New Hampshire\nCommunity Calendar\nhttps:/
 /jewishnh.org/community-calendar/tu-bshvat-seder-at-temple-beth-abraham-17
 04736533\n\nJoin us as we celebrate Tu B'Shvat with a Seder! Readings\, fr
 uit sampling and great company! RSVP at tbanashua.org/events/tu-bshvat-sed
 er/
DTSTART;TZID=America/New_York:20240124T183000
DTEND;TZID=America/New_York:20240124T193000
END:VEVENT
END:VCALENDAR
