BEGIN:VCALENDAR
PRODID:-//eluceo/ical//2.0/EN
VERSION:2.0
CALSCALE:GREGORIAN
BEGIN:VEVENT
UID:afda8ee3dcc6626c7123494149a349ee
DTSTAMP:20260422T183734Z
SUMMARY:Etz Hayim TuB'Shvat
DESCRIPTION:Jewish Federation of New Hampshire\nCommunity Calendar\nhttps:/
 /jewishnh.org/community-calendar/tubshvat-1640718206\n\nTuB’Shevat Seder
 : Please join with the Etz Hayim community to celebrate TuB’Shevat\, the
  New Year of trees\, for our seder on January 16 at 6PM via Zoom. Contact 
 office@etzhayim for the zoom link and a suggested list of fruits and other
  items for our feast.
DTSTART;TZID=America/New_York:20220116T180000
DTEND;TZID=America/New_York:20220116T200000
END:VEVENT
END:VCALENDAR
