BEGIN:VCALENDAR
PRODID:-//eluceo/ical//2.0/EN
VERSION:2.0
CALSCALE:GREGORIAN
BEGIN:VEVENT
UID:b174cefc90e2eeea74519f0b472a68b8
DTSTAMP:20260424T134007Z
SUMMARY:ULTIMATE STUDENT CHANUKAH PARTY
DESCRIPTION:Jewish Federation of New Hampshire\nCommunity Calendar\nhttps:/
 /jewishnh.org/community-calendar/ultimate-student-chanukah-party-163673717
 1\n\nJoin Chabad and Hillel for a Ultimate Chanukah Party!\nLIGHTS\, LATKE
 S\, MUSIC & PIZZA FOR ALL\nGRAND DREIDEL GAME AND DECORATE YOUR OWN DONUT\
 nTHURSDAY\nDEC 2ND\n6:30 PM\nMUST REGISTER AT JEWISHSEACOAST.\nCOM/STUDENT
 PARTY
DTSTART;TZID=America/New_York:20211202T183000
DTEND;TZID=America/New_York:20211202T203000
END:VEVENT
END:VCALENDAR
