BEGIN:VCALENDAR
PRODID:-//eluceo/ical//2.0/EN
VERSION:2.0
CALSCALE:GREGORIAN
BEGIN:VEVENT
UID:453bf9a6220b5f999b5726595fa902ad
DTSTAMP:20260423T124413Z
SUMMARY:Understanding the Hebrew Month of Elul
DESCRIPTION:Jewish Federation of New Hampshire\nCommunity Calendar\nhttps:/
 /jewishnh.org/community-calendar/understanding-the-hebrew-month-of-elul-16
 89792327\n\nThe month of July brings us also Rosh Chodesh Elul\, it is the
  Hebrew month that precedes the High Holy Days\, a special and holy time. 
 I invite you on August 16 to our house for an informal learning session on
  how to tap the extraordinary energy of this month as preparation for Rosh
  Hashanah and Yom Kippur.
DTSTART;TZID=America/New_York:20230816T180000
DTEND;TZID=America/New_York:20230816T200000
END:VEVENT
END:VCALENDAR
