BEGIN:VCALENDAR
PRODID:-//eluceo/ical//2.0/EN
VERSION:2.0
CALSCALE:GREGORIAN
BEGIN:VEVENT
UID:a11d4a37702e51e35fecf3689739c1a1
DTSTAMP:20260422T123041Z
SUMMARY:Understanding The History & Morality of U.S. Refugee Policy
DESCRIPTION:Jewish Federation of New Hampshire\nCommunity Calendar\nhttps:/
 /jewishnh.org/community-calendar/understanding-the-history-morality-of-us-
 refugee-policy\n\nThe Visiting Scholars Program sponsored by Temple Israel
  and the Abraham and Lillian Heifetz Gruber Family Fund present: "Understa
 nding the History and Morality of US Refugee Policy" Event starts at 2pm p
 romptly and will be followed by a reception at 4pm.\n\nFree & Open to the 
 public. Tickets required\n\nReserve Complimentary tickets at eventbrite.co
 m\n\nSearch: Visiting Scholars Program TI\n\nor call 603-622-61271 by Nov 
 1
DTSTART;TZID=America/New_York:20181104T140000
DTEND;TZID=America/New_York:20181104T154500
END:VEVENT
END:VCALENDAR
