BEGIN:VCALENDAR
PRODID:-//eluceo/ical//2.0/EN
VERSION:2.0
CALSCALE:GREGORIAN
BEGIN:VEVENT
UID:fb616e4d2ec044ba1d92f3a88591caed
DTSTAMP:20260422T134203Z
SUMMARY:Unique Music Program in Tamworth
DESCRIPTION:Jewish Federation of New Hampshire\nCommunity Calendar\nhttps:/
 /jewishnh.org/community-calendar/unique-music-program-in-tamworth\n\nThe A
 fro-Semitic Experience appears in a special performance at Barnstormers\, 
 104 Main St.\, Tanworth on June 6 from 7-9 PM.  The group explores both A
 frican\, American and Jewish liturgical and secular music interpreted in j
 azz.  David Chevan leads this ensemble\, doing their residency in Tamwort
 h\, and they will culminate their experience with this performance.\n\nPle
 ase come and be generous with your support for Arts Council Tamworth for b
 ringing them to our community.  For more information...
DTSTART;TZID=America/New_York:20190606T190000
DTEND;TZID=America/New_York:20190606T210000
END:VEVENT
END:VCALENDAR
