BEGIN:VCALENDAR
PRODID:-//eluceo/ical//2.0/EN
VERSION:2.0
CALSCALE:GREGORIAN
BEGIN:VEVENT
UID:e5dea5fdaae81bdf942a1008b6b5b073
DTSTAMP:20260423T142450Z
SUMMARY:Upper Valley L'dor Vador Tot Shabbat
DESCRIPTION:Jewish Federation of New Hampshire\nCommunity Calendar\nhttps:/
 /jewishnh.org/community-calendar/upper-valley-ldor-vador-tot-shabbat\n\nUp
 per Valley Tot Shabbat\, L’dor Vador theme\, at Kilton Library 80 Main 
 St\, West Lebanon\, NH\, 10:30-11\;30 am
DTSTART;TZID=America/New_York:20240309T103000
DTEND;TZID=America/New_York:20240309T113000
END:VEVENT
END:VCALENDAR
