BEGIN:VCALENDAR
PRODID:-//eluceo/ical//2.0/EN
VERSION:2.0
CALSCALE:GREGORIAN
BEGIN:VEVENT
UID:77d9f7cacddc2236ffe3b2407bb771aa
DTSTAMP:20260423T210334Z
SUMMARY:UVJC Contemplative Shabbat  Service
DESCRIPTION:Jewish Federation of New Hampshire\nCommunity Calendar\nhttps:/
 /jewishnh.org/community-calendar/uvjc-contemplative-shabbat--service-15615
 78023\n\nKol Ha’Emek – The Upper Valley Jewish Community will be holdi
 ng a contemplative Shabbat morning service that features meditation\, pray
 er\, chant\, and Torah study. The contemplative service offers a slower pa
 ce and an opportunity to explore Jewish spirituality as it relates to Shab
 bat as a day of rest and renewal. It will be followed by a kiddush.
DTSTART;TZID=America/New_York:20190720T100000
DTEND;TZID=America/New_York:20190720T113000
END:VEVENT
END:VCALENDAR
