BEGIN:VCALENDAR
PRODID:-//eluceo/ical//2.0/EN
VERSION:2.0
CALSCALE:GREGORIAN
BEGIN:VEVENT
UID:9552db28beacf0fa92e43659e5548c35
DTSTAMP:20260422T050744Z
SUMMARY:UVJC Tot Event
DESCRIPTION:Jewish Federation of New Hampshire\nCommunity Calendar\nhttps:/
 /jewishnh.org/community-calendar/uvjc-tot-event-1652895900\n\nIt will be o
 ur traditional tot gathering with songs\, plush torahs\, story time\, snac
 ks and crafts.
DTSTART;TZID=America/New_York:20220522T091500
DTEND;TZID=America/New_York:20220522T101500
END:VEVENT
END:VCALENDAR
