BEGIN:VCALENDAR
PRODID:-//eluceo/ical//2.0/EN
VERSION:2.0
CALSCALE:GREGORIAN
BEGIN:VEVENT
UID:1238727d4e843cb30d791ed54525b4cb
DTSTAMP:20260424T064710Z
SUMMARY:Vaccine Clinic at Temple Beth Abraham\, Nashua
DESCRIPTION:Jewish Federation of New Hampshire\nCommunity Calendar\nhttps:/
 /jewishnh.org/community-calendar/vaccine-clinic-at-temple-beth-abraham-nas
 hua\n\nOn Tuesday\, Jan. 25 from 12:00-7:00 pm the State of New Hampshire 
 Department of Health and Human Services will hold a vaccine and booster cl
 inic at Temple Beth Abraham\, 4 Raymond St. in Nashua. All vaccines and bo
 osters will be available for all eligible ages. The time will hopefully m
 ake it possible for eligible children to get shots after school and for pe
 ople to come during lunchtime or after work.\n\nThe clinic will be by walk
 -in only and is open to the general public. We will try to pos...
DTSTART;TZID=America/New_York:20220125T120000
DTEND;TZID=America/New_York:20220125T190000
END:VEVENT
END:VCALENDAR
