BEGIN:VCALENDAR
PRODID:-//eluceo/ical//2.0/EN
VERSION:2.0
CALSCALE:GREGORIAN
BEGIN:VEVENT
UID:2b5453d4864a300e106c3ef757a256f3
DTSTAMP:20260422T211910Z
SUMMARY:Vaccine Q&A with Dr. Alex Granok
DESCRIPTION:Jewish Federation of New Hampshire\nCommunity Calendar\nhttps:/
 /jewishnh.org/community-calendar/vaccine-qa-with-dr-alex-granok\n\nOn Sept
 ember 1\, the CDC announced updated recommendations for COVID-19 boosters 
 for people age 12 and up. The updated booster dose is a bivalent formula t
 hat both boosts immunity against the original coronavirus strain and also 
 protects against the newer Omicron variants that account for most of the c
 urrent cases.\n\nWant to know more about these new boosters? Have general 
 questions about vaccines or Covid?\n\nJoin us on Monday\, September 12\, a
 t 7:00 pm for an online Q&A with Dr. Alex Granok\,...
DTSTART;TZID=America/New_York:20220912T190000
DTEND;TZID=America/New_York:20220912T203000
END:VEVENT
END:VCALENDAR
