BEGIN:VCALENDAR
PRODID:-//eluceo/ical//2.0/EN
VERSION:2.0
CALSCALE:GREGORIAN
BEGIN:VEVENT
UID:7651a4a6daf97da1ab378130742e5593
DTSTAMP:20260423T062603Z
SUMMARY:Veterans Shabbat Dinner
DESCRIPTION:Jewish Federation of New Hampshire\nCommunity Calendar\nhttps:/
 /jewishnh.org/community-calendar/veterans-shabbat-dinner-1575322179\n\nJoi
 n us for a Veterans Community Shabbat Dinner!\n\nShow Your Appreciation by
  Honoring the\n\nBrave Veterans of the U.S. Military\n\n \n\n \n\nCouver
 t: $25 Adult $15 Child | Students Free!\n\nJewishSeacoast.com/Veterans\n\n
 Seacoast Jewish Center\n\n72-1 Main Street\n\nDurham\, NH 03824\n\nFriday\
 , Drcember 6th | 6:00 PM
DTSTART;TZID=America/New_York:20191206T180000
DTEND;TZID=America/New_York:20191206T200000
END:VEVENT
END:VCALENDAR
