BEGIN:VCALENDAR
PRODID:-//eluceo/ical//2.0/EN
VERSION:2.0
CALSCALE:GREGORIAN
BEGIN:VEVENT
UID:c77dfceb5b9db0fb71ab05ff9d27a961
DTSTAMP:20260423T085302Z
SUMMARY:Veterans Shabbat Dinner
DESCRIPTION:Jewish Federation of New Hampshire\nCommunity Calendar\nhttps:/
 /jewishnh.org/community-calendar/veterans-shabbat-dinner-1636735448\n\nJoi
 n us for a Veterans Community Shabbat Dinner!\nShow Your Appreciation by H
 onoring the\nBrave Veterans of the U.S. Military\nCouvert: $25 Adult $15 C
 hild\nStudents Free!
DTSTART;TZID=America/New_York:20211112T173000
DTEND;TZID=America/New_York:20211112T183000
END:VEVENT
END:VCALENDAR
