BEGIN:VCALENDAR
PRODID:-//eluceo/ical//2.0/EN
VERSION:2.0
CALSCALE:GREGORIAN
BEGIN:VEVENT
UID:c3962097a0a91b2e604a192834891233
DTSTAMP:20260423T191055Z
SUMMARY:SNHJMC presents: Vignettes of Jewish Life
DESCRIPTION:Jewish Federation of New Hampshire\nCommunity Calendar\nhttps:/
 /jewishnh.org/community-calendar/vignettes-of-jewish-life-1707403646\n\nOu
 r kitchen crew will be preparing a sumptuous feast of scrambled eggs\, bag
 els\, lox\, and whitefish salad with veggies\, fruit\, orange juice\, milk
 \, coffee\, and water.  The cost for breakfast is $10 for all members in g
 ood standing and any of those members  guests that may accompany them. The
  cost for breakfast for non-members will be $18.  New members will be able
  to join on the spot should they desire to take advantage of the breakfast
  discount.  Membership is available for a suggested...
DTSTART;TZID=America/New_York:20240317T093000
DTEND;TZID=America/New_York:20240317T113000
END:VEVENT
END:VCALENDAR
